BEGIN:VCALENDAR
VERSION:2.0
PRODID:-//Viva Kirche Neckertal - ECPv6.15.18//NONSGML v1.0//EN
CALSCALE:GREGORIAN
METHOD:PUBLISH
X-ORIGINAL-URL:https://vivakirche-neckertal.ch
X-WR-CALDESC:Veranstaltungen für Viva Kirche Neckertal
REFRESH-INTERVAL;VALUE=DURATION:PT1H
X-Robots-Tag:noindex
X-PUBLISHED-TTL:PT1H
BEGIN:VTIMEZONE
TZID:UTC
BEGIN:STANDARD
TZOFFSETFROM:+0000
TZOFFSETTO:+0000
TZNAME:UTC
DTSTART:20230101T000000
END:STANDARD
END:VTIMEZONE
BEGIN:VEVENT
DTSTART;TZID=UTC:20241231T180000
DTEND;TZID=UTC:20250101T010000
DTSTAMP:20260425T185359
CREATED:20241119T094417Z
LAST-MODIFIED:20241119T094417Z
UID:2486-1735668000-1735693200@vivakirche-neckertal.ch
SUMMARY:Chirche am Tisch
DESCRIPTION:Chirche am Tisch!\nEin öffentliches Essen mit einer Geschichte und guter Gemeinschaft bis ins neue Jahr!
URL:https://vivakirche-neckertal.ch/event/chirche-am-tisch-2/
LOCATION:Viva Kirche Neckertal\, Dorfstrasse 13\, Brunnadern\, 9125
CATEGORIES:Gottesdienst
END:VEVENT
END:VCALENDAR