BEGIN:VCALENDAR
VERSION:2.0
PRODID:-//Viva Kirche Neckertal - ECPv6.15.18//NONSGML v1.0//EN
CALSCALE:GREGORIAN
METHOD:PUBLISH
X-ORIGINAL-URL:https://vivakirche-neckertal.ch
X-WR-CALDESC:Veranstaltungen für Viva Kirche Neckertal
REFRESH-INTERVAL;VALUE=DURATION:PT1H
X-Robots-Tag:noindex
X-PUBLISHED-TTL:PT1H
BEGIN:VTIMEZONE
TZID:UTC
BEGIN:STANDARD
TZOFFSETFROM:+0000
TZOFFSETTO:+0000
TZNAME:UTC
DTSTART:20240101T000000
END:STANDARD
END:VTIMEZONE
BEGIN:VEVENT
DTSTART;TZID=UTC:20250112T100000
DTEND;TZID=UTC:20250112T113000
DTSTAMP:20260425T184719
CREATED:20241119T094906Z
LAST-MODIFIED:20241119T094906Z
UID:2490-1736676000-1736681400@vivakirche-neckertal.ch
SUMMARY:Allianz- GD
DESCRIPTION:Gottesdienst der evangelischen Allianz Toggenburg in der FCG Toggenburg in Ebnat-Kappel!
URL:https://vivakirche-neckertal.ch/event/allianz-gd/
CATEGORIES:Gottesdienst
END:VEVENT
END:VCALENDAR