BEGIN:VCALENDAR
VERSION:2.0
PRODID:-//Viva Kirche Neckertal - ECPv6.15.18//NONSGML v1.0//EN
CALSCALE:GREGORIAN
METHOD:PUBLISH
X-WR-CALNAME:Viva Kirche Neckertal
X-ORIGINAL-URL:https://vivakirche-neckertal.ch
X-WR-CALDESC:Veranstaltungen für Viva Kirche Neckertal
REFRESH-INTERVAL;VALUE=DURATION:PT1H
X-Robots-Tag:noindex
X-PUBLISHED-TTL:PT1H
BEGIN:VTIMEZONE
TZID:UTC
BEGIN:STANDARD
TZOFFSETFROM:+0000
TZOFFSETTO:+0000
TZNAME:UTC
DTSTART:20240101T000000
END:STANDARD
END:VTIMEZONE
BEGIN:VEVENT
DTSTART;TZID=UTC:20250216T110000
DTEND;TZID=UTC:20250216T120000
DTSTAMP:20260425T171600
CREATED:20241119T102749Z
LAST-MODIFIED:20241119T102749Z
UID:2503-1739703600-1739707200@vivakirche-neckertal.ch
SUMMARY:Gebet
DESCRIPTION:Gebetszeit
URL:https://vivakirche-neckertal.ch/event/gebet-36/
LOCATION:Viva Kirche Neckertal\, Dorfstrasse 13\, Brunnadern\, 9125
CATEGORIES:Gottesdienst
END:VEVENT
BEGIN:VEVENT
DTSTART;TZID=UTC:20250216T123000
DTEND;TZID=UTC:20250216T160000
DTSTAMP:20260425T171600
CREATED:20241119T102646Z
LAST-MODIFIED:20241119T102646Z
UID:2501-1739709000-1739721600@vivakirche-neckertal.ch
SUMMARY:Chirche am Tisch
DESCRIPTION:öffentliches Mittagessen mit einer Geschichte und guter Gemeinschaft
URL:https://vivakirche-neckertal.ch/event/chirche-am-tisch-3/
LOCATION:Viva Kirche Neckertal\, Dorfstrasse 13\, Brunnadern\, 9125
CATEGORIES:Gottesdienst
END:VEVENT
END:VCALENDAR