BEGIN:VCALENDAR
VERSION:2.0
PRODID:-//Viva Kirche Neckertal - ECPv6.15.18//NONSGML v1.0//EN
CALSCALE:GREGORIAN
METHOD:PUBLISH
X-ORIGINAL-URL:https://vivakirche-neckertal.ch
X-WR-CALDESC:Veranstaltungen für Viva Kirche Neckertal
REFRESH-INTERVAL;VALUE=DURATION:PT1H
X-Robots-Tag:noindex
X-PUBLISHED-TTL:PT1H
BEGIN:VTIMEZONE
TZID:UTC
BEGIN:STANDARD
TZOFFSETFROM:+0000
TZOFFSETTO:+0000
TZNAME:UTC
DTSTART:20240101T000000
END:STANDARD
END:VTIMEZONE
BEGIN:VEVENT
DTSTART;TZID=UTC:20250505T200000
DTEND;TZID=UTC:20250505T210000
DTSTAMP:20260425T120413
CREATED:20250328T152207Z
LAST-MODIFIED:20250328T152207Z
UID:2595-1746475200-1746478800@vivakirche-neckertal.ch
SUMMARY:Gebetsspaziergang
DESCRIPTION:Gemeindeduell: \nGebetsspaziergang in St.Peterzell\nTreffpunkt: Parkplatz „Oberer Baumgarten“ \nWir spazieren durch St.Peterzell und beten an verschiedenen Orten auf verschiedene Arten miteinander und für St.Peterzell. Der Anlass findet bei jedem Wetter draussen statt.
URL:https://vivakirche-neckertal.ch/event/gebetsspaziergang/
END:VEVENT
END:VCALENDAR