BEGIN:VCALENDAR
VERSION:2.0
PRODID:-//Viva Kirche Neckertal - ECPv6.15.18//NONSGML v1.0//EN
CALSCALE:GREGORIAN
METHOD:PUBLISH
X-ORIGINAL-URL:https://vivakirche-neckertal.ch
X-WR-CALDESC:Veranstaltungen für Viva Kirche Neckertal
REFRESH-INTERVAL;VALUE=DURATION:PT1H
X-Robots-Tag:noindex
X-PUBLISHED-TTL:PT1H
BEGIN:VTIMEZONE
TZID:UTC
BEGIN:STANDARD
TZOFFSETFROM:+0000
TZOFFSETTO:+0000
TZNAME:UTC
DTSTART:20240101T000000
END:STANDARD
END:VTIMEZONE
BEGIN:VEVENT
DTSTART;TZID=UTC:20250622T093000
DTEND;TZID=UTC:20250622T110000
DTSTAMP:20260424T003444
CREATED:20250329T095433Z
LAST-MODIFIED:20250329T095433Z
UID:2613-1750584600-1750590000@vivakirche-neckertal.ch
SUMMARY:Jungschar-Gottesdienst
DESCRIPTION:Gottesdienst mit und von der Jungschar-Brunnadern
URL:https://vivakirche-neckertal.ch/event/jungschar-gottesdienst-2/
LOCATION:Chrüzweg\, Furtstrasse 3\, Brunnadern\, 9125
CATEGORIES:Gottesdienst,Jungschar
END:VEVENT
END:VCALENDAR