BEGIN:VCALENDAR
VERSION:2.0
PRODID:-//Viva Kirche Neckertal - ECPv6.15.18//NONSGML v1.0//EN
CALSCALE:GREGORIAN
METHOD:PUBLISH
X-ORIGINAL-URL:https://vivakirche-neckertal.ch
X-WR-CALDESC:Veranstaltungen für Viva Kirche Neckertal
REFRESH-INTERVAL;VALUE=DURATION:PT1H
X-Robots-Tag:noindex
X-PUBLISHED-TTL:PT1H
BEGIN:VTIMEZONE
TZID:UTC
BEGIN:STANDARD
TZOFFSETFROM:+0000
TZOFFSETTO:+0000
TZNAME:UTC
DTSTART:20240101T000000
END:STANDARD
END:VTIMEZONE
BEGIN:VEVENT
DTSTART;TZID=UTC:20251019T123000
DTEND;TZID=UTC:20251019T160000
DTSTAMP:20260423T191348
CREATED:20250716T192046Z
LAST-MODIFIED:20250716T192046Z
UID:2672-1760877000-1760889600@vivakirche-neckertal.ch
SUMMARY:Chirche am Tisch
DESCRIPTION:öffentliches Mittagessen mit einer biblischen Geschichte und guter Gemeinschaft \nBei guter Witterung im Pärkli
URL:https://vivakirche-neckertal.ch/event/chirche-am-tisch-10/
LOCATION:Viva Kirche Neckertal\, Dorfstrasse 13\, Brunnadern\, 9125
CATEGORIES:Gottesdienst
END:VEVENT
END:VCALENDAR