BEGIN:VCALENDAR
VERSION:2.0
PRODID:-//Viva Kirche Neckertal - ECPv6.15.18//NONSGML v1.0//EN
CALSCALE:GREGORIAN
METHOD:PUBLISH
X-WR-CALNAME:Viva Kirche Neckertal
X-ORIGINAL-URL:https://vivakirche-neckertal.ch
X-WR-CALDESC:Veranstaltungen für Viva Kirche Neckertal
REFRESH-INTERVAL;VALUE=DURATION:PT1H
X-Robots-Tag:noindex
X-PUBLISHED-TTL:PT1H
BEGIN:VTIMEZONE
TZID:UTC
BEGIN:STANDARD
TZOFFSETFROM:+0000
TZOFFSETTO:+0000
TZNAME:UTC
DTSTART:20250101T000000
END:STANDARD
END:VTIMEZONE
BEGIN:VEVENT
DTSTART;TZID=UTC:20260412T123000
DTEND;TZID=UTC:20260412T160000
DTSTAMP:20260421T131111
CREATED:20260402T052459Z
LAST-MODIFIED:20260402T052459Z
UID:2847-1775997000-1776009600@vivakirche-neckertal.ch
SUMMARY:Chirche am Tisch in Nassen
DESCRIPTION:öffentliches Mittagessen „Chirche am Tisch“ im alten Schulhaus in Nassen
URL:https://vivakirche-neckertal.ch/event/chirche-am-tisch-in-nassen/
CATEGORIES:Gottesdienst
END:VEVENT
END:VCALENDAR