BEGIN:VCALENDAR
VERSION:2.0
PRODID:-//Viva Kirche Neckertal - ECPv6.15.18//NONSGML v1.0//EN
CALSCALE:GREGORIAN
METHOD:PUBLISH
X-WR-CALNAME:Viva Kirche Neckertal
X-ORIGINAL-URL:https://vivakirche-neckertal.ch
X-WR-CALDESC:Veranstaltungen für Viva Kirche Neckertal
REFRESH-INTERVAL;VALUE=DURATION:PT1H
X-Robots-Tag:noindex
X-PUBLISHED-TTL:PT1H
BEGIN:VTIMEZONE
TZID:UTC
BEGIN:STANDARD
TZOFFSETFROM:+0000
TZOFFSETTO:+0000
TZNAME:UTC
DTSTART:20250101T000000
END:STANDARD
END:VTIMEZONE
BEGIN:VEVENT
DTSTART;TZID=UTC:20260430T200000
DTEND;TZID=UTC:20260430T211500
DTSTAMP:20260421T131033
CREATED:20260402T053236Z
LAST-MODIFIED:20260402T053236Z
UID:2862-1777579200-1777583700@vivakirche-neckertal.ch
SUMMARY:Dorfgebet
DESCRIPTION:Gebetsabend für und in Brunnadern\nNachfolgeanlass von Abend fürs Neckertal
URL:https://vivakirche-neckertal.ch/event/dorfgebet/
LOCATION:Viva Kirche Neckertal\, Dorfstrasse 13\, Brunnadern\, 9125
END:VEVENT
END:VCALENDAR