BEGIN:VCALENDAR
VERSION:2.0
PRODID:-//Viva Kirche Neckertal - ECPv6.15.18//NONSGML v1.0//EN
CALSCALE:GREGORIAN
METHOD:PUBLISH
X-WR-CALNAME:Viva Kirche Neckertal
X-ORIGINAL-URL:https://vivakirche-neckertal.ch
X-WR-CALDESC:Veranstaltungen für Viva Kirche Neckertal
REFRESH-INTERVAL;VALUE=DURATION:PT1H
X-Robots-Tag:noindex
X-PUBLISHED-TTL:PT1H
BEGIN:VTIMEZONE
TZID:UTC
BEGIN:STANDARD
TZOFFSETFROM:+0000
TZOFFSETTO:+0000
TZNAME:UTC
DTSTART:20250101T000000
END:STANDARD
END:VTIMEZONE
BEGIN:VEVENT
DTSTART;TZID=UTC:20260512T144500
DTEND;TZID=UTC:20260512T160000
DTSTAMP:20260421T144016
CREATED:20260402T061432Z
LAST-MODIFIED:20260402T061432Z
UID:2872-1778597100-1778601600@vivakirche-neckertal.ch
SUMMARY:Seniorennachmittag
DESCRIPTION:Nachmittag für alle Senioren
URL:https://vivakirche-neckertal.ch/event/seniorennachmittag-11/
LOCATION:Viva Kirche Neckertal\, Dorfstrasse 13\, Brunnadern\, 9125
END:VEVENT
END:VCALENDAR