BEGIN:VCALENDAR
VERSION:2.0
PRODID:-//Viva Kirche Neckertal - ECPv6.15.18//NONSGML v1.0//EN
CALSCALE:GREGORIAN
METHOD:PUBLISH
X-ORIGINAL-URL:https://vivakirche-neckertal.ch
X-WR-CALDESC:Veranstaltungen für Viva Kirche Neckertal
REFRESH-INTERVAL;VALUE=DURATION:PT1H
X-Robots-Tag:noindex
X-PUBLISHED-TTL:PT1H
BEGIN:VTIMEZONE
TZID:UTC
BEGIN:STANDARD
TZOFFSETFROM:+0000
TZOFFSETTO:+0000
TZNAME:UTC
DTSTART:20250101T000000
END:STANDARD
END:VTIMEZONE
BEGIN:VEVENT
DTSTART;TZID=UTC:20260425T140000
DTEND;TZID=UTC:20260425T170000
DTSTAMP:20260421T104504
CREATED:20260402T052845Z
LAST-MODIFIED:20260402T052845Z
UID:2856-1777125600-1777136400@vivakirche-neckertal.ch
SUMMARY:Jungschar
DESCRIPTION:Jungscharnachmittag
URL:https://vivakirche-neckertal.ch/event/jungschar-92/
LOCATION:Viva Kirche Neckertal\, Dorfstrasse 13\, Brunnadern\, 9125
CATEGORIES:Jungschar
END:VEVENT
BEGIN:VEVENT
DTSTART;TZID=UTC:20260426T093000
DTEND;TZID=UTC:20260426T110000
DTSTAMP:20260421T104504
CREATED:20260402T052954Z
LAST-MODIFIED:20260402T052954Z
UID:2858-1777195800-1777201200@vivakirche-neckertal.ch
SUMMARY:Gottesdienst
DESCRIPTION:Mit Wolfgang Krieg
URL:https://vivakirche-neckertal.ch/event/gottesdienst-176/
LOCATION:Viva Kirche Neckertal\, Dorfstrasse 13\, Brunnadern\, 9125
CATEGORIES:Gottesdienst
END:VEVENT
BEGIN:VEVENT
DTSTART;TZID=UTC:20260428T144500
DTEND;TZID=UTC:20260428T160000
DTSTAMP:20260421T104504
CREATED:20260402T053109Z
LAST-MODIFIED:20260402T053109Z
UID:2860-1777387500-1777392000@vivakirche-neckertal.ch
SUMMARY:Seniorennachmittag
DESCRIPTION:Seniorennachmittag
URL:https://vivakirche-neckertal.ch/event/seniorennachmittag-10/
LOCATION:Viva Kirche Neckertal\, Dorfstrasse 13\, Brunnadern\, 9125
END:VEVENT
BEGIN:VEVENT
DTSTART;TZID=UTC:20260430T200000
DTEND;TZID=UTC:20260430T211500
DTSTAMP:20260421T104504
CREATED:20260402T053236Z
LAST-MODIFIED:20260402T053236Z
UID:2862-1777579200-1777583700@vivakirche-neckertal.ch
SUMMARY:Dorfgebet
DESCRIPTION:Gebetsabend für und in Brunnadern\nNachfolgeanlass von Abend fürs Neckertal
URL:https://vivakirche-neckertal.ch/event/dorfgebet/
LOCATION:Viva Kirche Neckertal\, Dorfstrasse 13\, Brunnadern\, 9125
END:VEVENT
BEGIN:VEVENT
DTSTART;TZID=UTC:20260503T093000
DTEND;TZID=UTC:20260503T110000
DTSTAMP:20260421T104504
CREATED:20260402T053400Z
LAST-MODIFIED:20260402T053400Z
UID:2864-1777800600-1777806000@vivakirche-neckertal.ch
SUMMARY:Gottesdienst
DESCRIPTION:Dialog- Gottesdienst\nmit Abendmahl
URL:https://vivakirche-neckertal.ch/event/gottesdienst-177/
LOCATION:Viva Kirche Neckertal\, Dorfstrasse 13\, Brunnadern\, 9125
CATEGORIES:Gottesdienst
END:VEVENT
BEGIN:VEVENT
DTSTART;TZID=UTC:20260507T200000
DTEND;TZID=UTC:20260507T210000
DTSTAMP:20260421T104504
CREATED:20260402T061117Z
LAST-MODIFIED:20260402T061117Z
UID:2866-1778184000-1778187600@vivakirche-neckertal.ch
SUMMARY:Gebet
DESCRIPTION:Gebetsabend
URL:https://vivakirche-neckertal.ch/event/gebet-44/
LOCATION:Viva Kirche Neckertal\, Dorfstrasse 13\, Brunnadern\, 9125
END:VEVENT
BEGIN:VEVENT
DTSTART;TZID=UTC:20260509T140000
DTEND;TZID=UTC:20260509T170000
DTSTAMP:20260421T104504
CREATED:20260402T061219Z
LAST-MODIFIED:20260402T061219Z
UID:2868-1778335200-1778346000@vivakirche-neckertal.ch
SUMMARY:Jungschar
DESCRIPTION:Jungscharnachmittag
URL:https://vivakirche-neckertal.ch/event/jungschar-93/
LOCATION:Viva Kirche Neckertal\, Dorfstrasse 13\, Brunnadern\, 9125
CATEGORIES:Jungschar
END:VEVENT
BEGIN:VEVENT
DTSTART;TZID=UTC:20260510T093000
DTEND;TZID=UTC:20260510T110000
DTSTAMP:20260421T104504
CREATED:20260402T061337Z
LAST-MODIFIED:20260402T061337Z
UID:2870-1778405400-1778410800@vivakirche-neckertal.ch
SUMMARY:Gottesdienst
DESCRIPTION:Mit Simon Bäbler
URL:https://vivakirche-neckertal.ch/event/gottesdienst-178/
LOCATION:Viva Kirche Neckertal\, Dorfstrasse 13\, Brunnadern\, 9125
CATEGORIES:Gottesdienst
END:VEVENT
BEGIN:VEVENT
DTSTART;TZID=UTC:20260512T144500
DTEND;TZID=UTC:20260512T160000
DTSTAMP:20260421T104504
CREATED:20260402T061432Z
LAST-MODIFIED:20260402T061432Z
UID:2872-1778597100-1778601600@vivakirche-neckertal.ch
SUMMARY:Seniorennachmittag
DESCRIPTION:Nachmittag für alle Senioren
URL:https://vivakirche-neckertal.ch/event/seniorennachmittag-11/
LOCATION:Viva Kirche Neckertal\, Dorfstrasse 13\, Brunnadern\, 9125
END:VEVENT
BEGIN:VEVENT
DTSTART;TZID=UTC:20260517T123000
DTEND;TZID=UTC:20260517T160000
DTSTAMP:20260421T104504
CREATED:20260402T061659Z
LAST-MODIFIED:20260402T061659Z
UID:2874-1779021000-1779033600@vivakirche-neckertal.ch
SUMMARY:Chirche am Tisch
DESCRIPTION:öffentliches Mittagessen mit eine Geschichte und guter Gemeinschaft
URL:https://vivakirche-neckertal.ch/event/chirche-am-tisch-16/
LOCATION:Viva Kirche Neckertal\, Dorfstrasse 13\, Brunnadern\, 9125
CATEGORIES:Gottesdienst
END:VEVENT
BEGIN:VEVENT
DTSTART;VALUE=DATE:20260522
DTEND;VALUE=DATE:20260526
DTSTAMP:20260421T104504
CREATED:20260402T061842Z
LAST-MODIFIED:20260402T061842Z
UID:2876-1779408000-1779753599@vivakirche-neckertal.ch
SUMMARY:Pfingstlager
DESCRIPTION:Pfingstlager der Besj-Jungscharen aus der Region
URL:https://vivakirche-neckertal.ch/event/pfingstlager-2/
CATEGORIES:Jungschar
END:VEVENT
BEGIN:VEVENT
DTSTART;TZID=UTC:20260524T093000
DTEND;TZID=UTC:20260524T110000
DTSTAMP:20260421T104504
CREATED:20260402T061946Z
LAST-MODIFIED:20260402T061946Z
UID:2878-1779615000-1779620400@vivakirche-neckertal.ch
SUMMARY:Pfingst-Gottesdienst
DESCRIPTION:Mit Wolfgang Krieg
URL:https://vivakirche-neckertal.ch/event/pfingst-gottesdienst-2/
LOCATION:Viva Kirche Neckertal\, Dorfstrasse 13\, Brunnadern\, 9125
CATEGORIES:Gottesdienst
END:VEVENT
BEGIN:VEVENT
DTSTART;TZID=UTC:20260526T144500
DTEND;TZID=UTC:20260526T160000
DTSTAMP:20260421T104504
CREATED:20260402T062107Z
LAST-MODIFIED:20260402T062107Z
UID:2880-1779806700-1779811200@vivakirche-neckertal.ch
SUMMARY:Seniorennachmittag
DESCRIPTION:Nachmittag für alle Senioren
URL:https://vivakirche-neckertal.ch/event/seniorennachmittag-12/
LOCATION:Viva Kirche Neckertal\, Dorfstrasse 13\, Brunnadern\, 9125
END:VEVENT
BEGIN:VEVENT
DTSTART;TZID=UTC:20260531T093000
DTEND;TZID=UTC:20260531T110000
DTSTAMP:20260421T104504
CREATED:20260402T062233Z
LAST-MODIFIED:20260402T062233Z
UID:2882-1780219800-1780225200@vivakirche-neckertal.ch
SUMMARY:Erlebnisbericht Gottesdienst
DESCRIPTION:Gottesdienst mit Erlebnisberichten
URL:https://vivakirche-neckertal.ch/event/erlebnisbericht-gottesdienst-6/
LOCATION:Viva Kirche Neckertal\, Dorfstrasse 13\, Brunnadern\, 9125
CATEGORIES:Gottesdienst
END:VEVENT
END:VCALENDAR