BEGIN:VCALENDAR
VERSION:2.0
PRODID:-//Viva Kirche Neckertal - ECPv6.15.18//NONSGML v1.0//EN
CALSCALE:GREGORIAN
METHOD:PUBLISH
X-ORIGINAL-URL:https://vivakirche-neckertal.ch
X-WR-CALDESC:Veranstaltungen für Viva Kirche Neckertal
REFRESH-INTERVAL;VALUE=DURATION:PT1H
X-Robots-Tag:noindex
X-PUBLISHED-TTL:PT1H
BEGIN:VTIMEZONE
TZID:UTC
BEGIN:STANDARD
TZOFFSETFROM:+0000
TZOFFSETTO:+0000
TZNAME:UTC
DTSTART:20230101T000000
END:STANDARD
END:VTIMEZONE
BEGIN:VEVENT
DTSTART;TZID=UTC:20241201T093000
DTEND;TZID=UTC:20241201T170000
DTSTAMP:20260425T185404
CREATED:20241119T092012Z
LAST-MODIFIED:20241119T092012Z
UID:2475-1733045400-1733072400@vivakirche-neckertal.ch
SUMMARY:Weihnachtsmarkt
DESCRIPTION:Weihnachtsmarkt Brunnadern.\nWir haben einen Stand am Markt und die Jungschar bietet in unseren Räumlichkeiten das Kerzenziehen an. \nUm 9:30 Uhr gibt es in der Viva eine Gebetszeit!
URL:https://vivakirche-neckertal.ch/event/weihnachtsmarkt/
LOCATION:Viva Kirche Neckertal\, Dorfstrasse 13\, Brunnadern\, 9125
CATEGORIES:Gottesdienst,Jungschar
END:VEVENT
BEGIN:VEVENT
DTSTART;TZID=UTC:20241203T200000
DTEND;TZID=UTC:20241203T210000
DTSTAMP:20260425T185404
CREATED:20240418T184256Z
LAST-MODIFIED:20240418T184256Z
UID:2378-1733256000-1733259600@vivakirche-neckertal.ch
SUMMARY:Gebet
DESCRIPTION:Gebetsabend
URL:https://vivakirche-neckertal.ch/event/gebet-35/
END:VEVENT
BEGIN:VEVENT
DTSTART;TZID=UTC:20241208T093000
DTEND;TZID=UTC:20241208T110000
DTSTAMP:20260425T185404
CREATED:20241119T092137Z
LAST-MODIFIED:20241119T092218Z
UID:2478-1733650200-1733655600@vivakirche-neckertal.ch
SUMMARY:Gottesdienst
DESCRIPTION:Hanspeter Obrist mit Abendmahl \nMit Kidstreff und Unti
URL:https://vivakirche-neckertal.ch/event/gottesdienst-135/
LOCATION:Viva Kirche Neckertal\, Dorfstrasse 13\, Brunnadern\, 9125
CATEGORIES:Gottesdienst
END:VEVENT
BEGIN:VEVENT
DTSTART;TZID=UTC:20241214T140000
DTEND;TZID=UTC:20241214T170000
DTSTAMP:20260425T185404
CREATED:20240718T192023Z
LAST-MODIFIED:20240718T192023Z
UID:2469-1734184800-1734195600@vivakirche-neckertal.ch
SUMMARY:Jungschar
DESCRIPTION:Jungscharnachmittag
URL:https://vivakirche-neckertal.ch/event/jungschar-67/
LOCATION:Viva Kirche Neckertal\, Dorfstrasse 13\, Brunnadern\, 9125
CATEGORIES:Jungschar
END:VEVENT
BEGIN:VEVENT
DTSTART;TZID=UTC:20241215T093000
DTEND;TZID=UTC:20241215T110000
DTSTAMP:20260425T185404
CREATED:20241119T092419Z
LAST-MODIFIED:20241119T092419Z
UID:2481-1734255000-1734260400@vivakirche-neckertal.ch
SUMMARY:Gottesdienst
DESCRIPTION:Wolfgang Krieg
URL:https://vivakirche-neckertal.ch/event/gottesdienst-136/
LOCATION:Viva Kirche Neckertal\, Dorfstrasse 13\, Brunnadern\, 9125
CATEGORIES:Gottesdienst
END:VEVENT
BEGIN:VEVENT
DTSTART;TZID=UTC:20241225T093000
DTEND;TZID=UTC:20241225T110000
DTSTAMP:20260425T185404
CREATED:20241119T092625Z
LAST-MODIFIED:20241119T094051Z
UID:2484-1735119000-1735124400@vivakirche-neckertal.ch
SUMMARY:Weihnachtsgottesdienst
DESCRIPTION:Weihnachtsgottesdienst mit Simon Bäbler
URL:https://vivakirche-neckertal.ch/event/weihnachtsgottesdienst-2/
LOCATION:Viva Kirche Neckertal\, Dorfstrasse 13\, Brunnadern\, 9125
CATEGORIES:Gottesdienst
END:VEVENT
BEGIN:VEVENT
DTSTART;TZID=UTC:20241231T180000
DTEND;TZID=UTC:20250101T010000
DTSTAMP:20260425T185404
CREATED:20241119T094417Z
LAST-MODIFIED:20241119T094417Z
UID:2486-1735668000-1735693200@vivakirche-neckertal.ch
SUMMARY:Chirche am Tisch
DESCRIPTION:Chirche am Tisch!\nEin öffentliches Essen mit einer Geschichte und guter Gemeinschaft bis ins neue Jahr!
URL:https://vivakirche-neckertal.ch/event/chirche-am-tisch-2/
LOCATION:Viva Kirche Neckertal\, Dorfstrasse 13\, Brunnadern\, 9125
CATEGORIES:Gottesdienst
END:VEVENT
END:VCALENDAR