BEGIN:VCALENDAR
VERSION:2.0
PRODID:-//Viva Kirche Neckertal - ECPv6.15.18//NONSGML v1.0//EN
CALSCALE:GREGORIAN
METHOD:PUBLISH
X-WR-CALNAME:Viva Kirche Neckertal
X-ORIGINAL-URL:https://vivakirche-neckertal.ch
X-WR-CALDESC:Veranstaltungen für Viva Kirche Neckertal
REFRESH-INTERVAL;VALUE=DURATION:PT1H
X-Robots-Tag:noindex
X-PUBLISHED-TTL:PT1H
BEGIN:VTIMEZONE
TZID:UTC
BEGIN:STANDARD
TZOFFSETFROM:+0000
TZOFFSETTO:+0000
TZNAME:UTC
DTSTART:20230101T000000
END:STANDARD
END:VTIMEZONE
BEGIN:VEVENT
DTSTART;TZID=UTC:20241231T180000
DTEND;TZID=UTC:20250101T010000
DTSTAMP:20260425T171611
CREATED:20241119T094417Z
LAST-MODIFIED:20241119T094417Z
UID:2486-1735668000-1735693200@vivakirche-neckertal.ch
SUMMARY:Chirche am Tisch
DESCRIPTION:Chirche am Tisch!\nEin öffentliches Essen mit einer Geschichte und guter Gemeinschaft bis ins neue Jahr!
URL:https://vivakirche-neckertal.ch/event/chirche-am-tisch-2/
LOCATION:Viva Kirche Neckertal\, Dorfstrasse 13\, Brunnadern\, 9125
CATEGORIES:Gottesdienst
END:VEVENT
BEGIN:VEVENT
DTSTART;TZID=UTC:20250102T200000
DTEND;TZID=UTC:20250102T210000
DTSTAMP:20260425T171611
CREATED:20241119T105316Z
LAST-MODIFIED:20241119T105316Z
UID:2541-1735848000-1735851600@vivakirche-neckertal.ch
SUMMARY:Gebet
DESCRIPTION:Gebetsabend
URL:https://vivakirche-neckertal.ch/event/gebet-37/
LOCATION:Viva Kirche Neckertal\, Dorfstrasse 13\, Brunnadern\, 9125
END:VEVENT
BEGIN:VEVENT
DTSTART;TZID=UTC:20250105T093000
DTEND;TZID=UTC:20250105T110000
DTSTAMP:20260425T171611
CREATED:20241119T094605Z
LAST-MODIFIED:20241119T094605Z
UID:2488-1736069400-1736074800@vivakirche-neckertal.ch
SUMMARY:Gottesdienst
DESCRIPTION:Gottesdienst mit Simon Bäbler mit Abendmahl
URL:https://vivakirche-neckertal.ch/event/gottesdienst-137/
LOCATION:Viva Kirche Neckertal\, Dorfstrasse 13\, Brunnadern\, 9125
CATEGORIES:Gottesdienst
END:VEVENT
BEGIN:VEVENT
DTSTART;TZID=UTC:20250111T140000
DTEND;TZID=UTC:20250111T170000
DTSTAMP:20260425T171611
CREATED:20241119T104052Z
LAST-MODIFIED:20241119T104052Z
UID:2516-1736604000-1736614800@vivakirche-neckertal.ch
SUMMARY:Jungschar
DESCRIPTION:Jungschar Nachmittag
URL:https://vivakirche-neckertal.ch/event/jungschar-68/
LOCATION:Viva Kirche Neckertal\, Dorfstrasse 13\, Brunnadern\, 9125
CATEGORIES:Jungschar
END:VEVENT
BEGIN:VEVENT
DTSTART;TZID=UTC:20250112T100000
DTEND;TZID=UTC:20250112T113000
DTSTAMP:20260425T171611
CREATED:20241119T094906Z
LAST-MODIFIED:20241119T094906Z
UID:2490-1736676000-1736681400@vivakirche-neckertal.ch
SUMMARY:Allianz- GD
DESCRIPTION:Gottesdienst der evangelischen Allianz Toggenburg in der FCG Toggenburg in Ebnat-Kappel!
URL:https://vivakirche-neckertal.ch/event/allianz-gd/
CATEGORIES:Gottesdienst
END:VEVENT
BEGIN:VEVENT
DTSTART;TZID=UTC:20250117T180000
DTEND;TZID=UTC:20250119T160000
DTSTAMP:20260425T171611
CREATED:20241119T100453Z
LAST-MODIFIED:20241119T100453Z
UID:2492-1737136800-1737302400@vivakirche-neckertal.ch
SUMMARY:Gemeinde Weekend
DESCRIPTION:Gemeinde Weekend der Viva Kirche Neckertal im Missionshaus auf dem Hemberg.
URL:https://vivakirche-neckertal.ch/event/gemeinde-weekend-6/
END:VEVENT
BEGIN:VEVENT
DTSTART;TZID=UTC:20250125T140000
DTEND;TZID=UTC:20250125T170000
DTSTAMP:20260425T171611
CREATED:20241119T104140Z
LAST-MODIFIED:20241119T104140Z
UID:2518-1737813600-1737824400@vivakirche-neckertal.ch
SUMMARY:Jungschar
DESCRIPTION:Jungscharnachmittag
URL:https://vivakirche-neckertal.ch/event/jungschar-69/
LOCATION:Viva Kirche Neckertal\, Dorfstrasse 13\, Brunnadern\, 9125
CATEGORIES:Jungschar
END:VEVENT
BEGIN:VEVENT
DTSTART;TZID=UTC:20250126T093000
DTEND;TZID=UTC:20250126T110000
DTSTAMP:20260425T171611
CREATED:20241119T100651Z
LAST-MODIFIED:20241119T100651Z
UID:2495-1737883800-1737889200@vivakirche-neckertal.ch
SUMMARY:Gottesdienst
DESCRIPTION:Gottesdienst mit Andi und Vreni Brunner mit Kidstreff und Unti
URL:https://vivakirche-neckertal.ch/event/gottesdienst-138/
LOCATION:Viva Kirche Neckertal\, Dorfstrasse 13\, Brunnadern\, 9125
CATEGORIES:Gottesdienst
END:VEVENT
END:VCALENDAR