BEGIN:VCALENDAR
VERSION:2.0
PRODID:-//Viva Kirche Neckertal - ECPv6.15.18//NONSGML v1.0//EN
CALSCALE:GREGORIAN
METHOD:PUBLISH
X-ORIGINAL-URL:https://vivakirche-neckertal.ch
X-WR-CALDESC:Veranstaltungen für Viva Kirche Neckertal
REFRESH-INTERVAL;VALUE=DURATION:PT1H
X-Robots-Tag:noindex
X-PUBLISHED-TTL:PT1H
BEGIN:VTIMEZONE
TZID:UTC
BEGIN:STANDARD
TZOFFSETFROM:+0000
TZOFFSETTO:+0000
TZNAME:UTC
DTSTART:20240101T000000
END:STANDARD
END:VTIMEZONE
BEGIN:VEVENT
DTSTART;TZID=UTC:20250301T140000
DTEND;TZID=UTC:20250301T170000
DTSTAMP:20260425T140535
CREATED:20241119T104258Z
LAST-MODIFIED:20241119T104258Z
UID:2522-1740837600-1740848400@vivakirche-neckertal.ch
SUMMARY:Jungschar
DESCRIPTION:Jungscharnachmittag
URL:https://vivakirche-neckertal.ch/event/jungschar-71/
LOCATION:Viva Kirche Neckertal\, Dorfstrasse 13\, Brunnadern\, 9125
CATEGORIES:Jungschar
END:VEVENT
BEGIN:VEVENT
DTSTART;TZID=UTC:20250302T093000
DTEND;TZID=UTC:20250302T110000
DTSTAMP:20260425T140535
CREATED:20241119T103126Z
LAST-MODIFIED:20241119T103126Z
UID:2507-1740907800-1740913200@vivakirche-neckertal.ch
SUMMARY:Gottesdienst
DESCRIPTION:Gottesdienst mit Wolfgang Krieg und Abendmahl
URL:https://vivakirche-neckertal.ch/event/gottesdienst-141/
LOCATION:Viva Kirche Neckertal\, Dorfstrasse 13\, Brunnadern\, 9125
CATEGORIES:Gottesdienst
END:VEVENT
BEGIN:VEVENT
DTSTART;TZID=UTC:20250309T093000
DTEND;TZID=UTC:20250309T110000
DTSTAMP:20260425T140535
CREATED:20241119T103332Z
LAST-MODIFIED:20241119T103332Z
UID:2509-1741512600-1741518000@vivakirche-neckertal.ch
SUMMARY:Gottesdienst
DESCRIPTION:Gottesdienst mit Simon Bäbler\, Kidstreff und Unti
URL:https://vivakirche-neckertal.ch/event/gottesdienst-142/
CATEGORIES:Gottesdienst
END:VEVENT
BEGIN:VEVENT
DTSTART;TZID=UTC:20250315T140000
DTEND;TZID=UTC:20250315T170000
DTSTAMP:20260425T140535
CREATED:20241119T104344Z
LAST-MODIFIED:20241119T104344Z
UID:2524-1742047200-1742058000@vivakirche-neckertal.ch
SUMMARY:Jungschar
DESCRIPTION:Jungscharnachmittag
URL:https://vivakirche-neckertal.ch/event/jungschar-72/
LOCATION:Viva Kirche Neckertal\, Dorfstrasse 13\, Brunnadern\, 9125
CATEGORIES:Jungschar
END:VEVENT
BEGIN:VEVENT
DTSTART;TZID=UTC:20250316T093000
DTEND;TZID=UTC:20250316T110000
DTSTAMP:20260425T140535
CREATED:20241119T103533Z
LAST-MODIFIED:20241119T103533Z
UID:2511-1742117400-1742122800@vivakirche-neckertal.ch
SUMMARY:Chirche am Tisch
DESCRIPTION:öffentliches Mittagessen mit einer Geschichte und guter Gemeinschaft \nbei guter Witterung im Pärkli
URL:https://vivakirche-neckertal.ch/event/chirche-am-tisch-4/
LOCATION:Viva Kirche Neckertal\, Dorfstrasse 13\, Brunnadern\, 9125
CATEGORIES:Gottesdienst
END:VEVENT
BEGIN:VEVENT
DTSTART;TZID=UTC:20250329T140000
DTEND;TZID=UTC:20250329T170000
DTSTAMP:20260425T140535
CREATED:20241119T104528Z
LAST-MODIFIED:20241119T104528Z
UID:2526-1743256800-1743267600@vivakirche-neckertal.ch
SUMMARY:Jungschar
DESCRIPTION:Jungscharnachmittag
URL:https://vivakirche-neckertal.ch/event/jungschar-73/
LOCATION:Viva Kirche Neckertal\, Dorfstrasse 13\, Brunnadern\, 9125
CATEGORIES:Jungschar
END:VEVENT
BEGIN:VEVENT
DTSTART;TZID=UTC:20250330T093000
DTEND;TZID=UTC:20250330T110000
DTSTAMP:20260425T140535
CREATED:20241119T103716Z
LAST-MODIFIED:20241119T103716Z
UID:2514-1743327000-1743332400@vivakirche-neckertal.ch
SUMMARY:Erlebnisbericht Gottesdienst
DESCRIPTION:Erlebinsbericht Gottesdienst
URL:https://vivakirche-neckertal.ch/event/erlebnisbericht-gottesdienst-4/
LOCATION:Viva Kirche Neckertal\, Dorfstrasse 13\, Brunnadern\, 9125
CATEGORIES:Gottesdienst
END:VEVENT
END:VCALENDAR