BEGIN:VCALENDAR
VERSION:2.0
PRODID:-//Viva Kirche Neckertal - ECPv6.15.18//NONSGML v1.0//EN
CALSCALE:GREGORIAN
METHOD:PUBLISH
X-ORIGINAL-URL:https://vivakirche-neckertal.ch
X-WR-CALDESC:Veranstaltungen für Viva Kirche Neckertal
REFRESH-INTERVAL;VALUE=DURATION:PT1H
X-Robots-Tag:noindex
X-PUBLISHED-TTL:PT1H
BEGIN:VTIMEZONE
TZID:UTC
BEGIN:STANDARD
TZOFFSETFROM:+0000
TZOFFSETTO:+0000
TZNAME:UTC
DTSTART:20240101T000000
END:STANDARD
END:VTIMEZONE
BEGIN:VEVENT
DTSTART;TZID=UTC:20250501T200000
DTEND;TZID=UTC:20250501T210000
DTSTAMP:20260425T103257
CREATED:20250328T151059Z
LAST-MODIFIED:20250328T151059Z
UID:2581-1746129600-1746133200@vivakirche-neckertal.ch
SUMMARY:Gebetsabend
DESCRIPTION:Gebetszeit
URL:https://vivakirche-neckertal.ch/event/gebetsabend-3/
LOCATION:Viva Kirche Neckertal\, Dorfstrasse 13\, Brunnadern\, 9125
END:VEVENT
BEGIN:VEVENT
DTSTART;TZID=UTC:20250504T093000
DTEND;TZID=UTC:20250504T110000
DTSTAMP:20260425T103257
CREATED:20250328T151855Z
LAST-MODIFIED:20250328T151855Z
UID:2593-1746351000-1746356400@vivakirche-neckertal.ch
SUMMARY:Gottesdienst
DESCRIPTION:Gottesdienst mit Simon Bäbler\nAbendmahl
URL:https://vivakirche-neckertal.ch/event/gottesdienst-146/
LOCATION:Viva Kirche Neckertal\, Dorfstrasse 13\, Brunnadern\, 9125
CATEGORIES:Gottesdienst
END:VEVENT
BEGIN:VEVENT
DTSTART;TZID=UTC:20250505T200000
DTEND;TZID=UTC:20250505T210000
DTSTAMP:20260425T103257
CREATED:20250328T152207Z
LAST-MODIFIED:20250328T152207Z
UID:2595-1746475200-1746478800@vivakirche-neckertal.ch
SUMMARY:Gebetsspaziergang
DESCRIPTION:Gemeindeduell: \nGebetsspaziergang in St.Peterzell\nTreffpunkt: Parkplatz „Oberer Baumgarten“ \nWir spazieren durch St.Peterzell und beten an verschiedenen Orten auf verschiedene Arten miteinander und für St.Peterzell. Der Anlass findet bei jedem Wetter draussen statt.
URL:https://vivakirche-neckertal.ch/event/gebetsspaziergang/
END:VEVENT
BEGIN:VEVENT
DTSTART;TZID=UTC:20250508T200000
DTEND;TZID=UTC:20250508T210000
DTSTAMP:20260425T103257
CREATED:20250328T152356Z
LAST-MODIFIED:20250328T152356Z
UID:2598-1746734400-1746738000@vivakirche-neckertal.ch
SUMMARY:Abend fürs Neckertal
DESCRIPTION:Ein Abend für unser Tal. Wir beten zusammen und suchen nach Gottes Wille in unserem Tal!
URL:https://vivakirche-neckertal.ch/event/abend-fuers-neckertal-3/
LOCATION:Chrüzweg\, Furtstrasse 3\, Brunnadern\, 9125
END:VEVENT
BEGIN:VEVENT
DTSTART;TZID=UTC:20250510T110000
DTEND;TZID=UTC:20250510T170000
DTSTAMP:20260425T103257
CREATED:20241119T104653Z
LAST-MODIFIED:20241119T104653Z
UID:2531-1746874800-1746896400@vivakirche-neckertal.ch
SUMMARY:Jungschar
DESCRIPTION:Jungscharnachmittag
URL:https://vivakirche-neckertal.ch/event/jungschar-75/
LOCATION:Viva Kirche Neckertal\, Dorfstrasse 13\, Brunnadern\, 9125
CATEGORIES:Jungschar
END:VEVENT
BEGIN:VEVENT
DTSTART;TZID=UTC:20250511T093000
DTEND;TZID=UTC:20250511T110000
DTSTAMP:20260425T103257
CREATED:20250328T152524Z
LAST-MODIFIED:20250328T152524Z
UID:2601-1746955800-1746961200@vivakirche-neckertal.ch
SUMMARY:Gottesdienst
DESCRIPTION:Gottesdienst mit Andi und Vreni Brunner\nKidstreff und Unti
URL:https://vivakirche-neckertal.ch/event/gottesdienst-147/
LOCATION:Viva Kirche Neckertal\, Dorfstrasse 13\, Brunnadern\, 9125
CATEGORIES:Gottesdienst
END:VEVENT
BEGIN:VEVENT
DTSTART;TZID=UTC:20250513T144500
DTEND;TZID=UTC:20250513T160000
DTSTAMP:20260425T103257
CREATED:20250328T150305Z
LAST-MODIFIED:20250328T150305Z
UID:2564-1747147500-1747152000@vivakirche-neckertal.ch
SUMMARY:Senioren Nachmittag
DESCRIPTION:Nachmittag für Senioren mit Gemeinschaft\, Impuls\, Singen
URL:https://vivakirche-neckertal.ch/event/senioren-nachmittag-4/
LOCATION:Viva Kirche Neckertal\, Dorfstrasse 13\, Brunnadern\, 9125
END:VEVENT
BEGIN:VEVENT
DTSTART;TZID=UTC:20250518T123000
DTEND;TZID=UTC:20250518T160000
DTSTAMP:20260425T103257
CREATED:20250328T152848Z
LAST-MODIFIED:20250328T152848Z
UID:2603-1747571400-1747584000@vivakirche-neckertal.ch
SUMMARY:Chirche am Tisch
DESCRIPTION:Chriche am Tisch ist ein öffentliches Mittagessen und anschliessendem Dessert mit einer bewegender Geschichte.\nBei guter Witterung essen wir im Pärkli\, bei schlechtem Wetter in der Viva Kirche.
URL:https://vivakirche-neckertal.ch/event/chirche-am-tisch-6/
CATEGORIES:Gottesdienst
END:VEVENT
BEGIN:VEVENT
DTSTART;TZID=UTC:20250524T140000
DTEND;TZID=UTC:20250524T170000
DTSTAMP:20260425T103257
CREATED:20241119T104735Z
LAST-MODIFIED:20241119T104735Z
UID:2533-1748095200-1748106000@vivakirche-neckertal.ch
SUMMARY:Jungschar
DESCRIPTION:Jungscharnachmittag
URL:https://vivakirche-neckertal.ch/event/jungschar-76/
LOCATION:Viva Kirche Neckertal\, Dorfstrasse 13\, Brunnadern\, 9125
CATEGORIES:Jungschar
END:VEVENT
BEGIN:VEVENT
DTSTART;TZID=UTC:20250525T093000
DTEND;TZID=UTC:20250525T110000
DTSTAMP:20260425T103257
CREATED:20250329T094708Z
LAST-MODIFIED:20250329T094708Z
UID:2605-1748165400-1748170800@vivakirche-neckertal.ch
SUMMARY:Gottesdienst
DESCRIPTION:Gottesdienst Unti-Abschluss in der ref. Kirche in Brunnadern\nmit Simon Bäbler
URL:https://vivakirche-neckertal.ch/event/gottesdienst-148/
CATEGORIES:Gottesdienst
END:VEVENT
BEGIN:VEVENT
DTSTART;TZID=UTC:20250527T144500
DTEND;TZID=UTC:20250527T160000
DTSTAMP:20260425T103257
CREATED:20250328T150352Z
LAST-MODIFIED:20250328T150352Z
UID:2566-1748357100-1748361600@vivakirche-neckertal.ch
SUMMARY:Senioren Nachmittag
DESCRIPTION:Nachmittag für Senioren mit Gemeinschaft\, Impuls\, Singen
URL:https://vivakirche-neckertal.ch/event/senioren-nachmittag-5/
LOCATION:Viva Kirche Neckertal\, Dorfstrasse 13\, Brunnadern\, 9125
END:VEVENT
END:VCALENDAR