BEGIN:VCALENDAR
VERSION:2.0
PRODID:-//Viva Kirche Neckertal - ECPv6.15.18//NONSGML v1.0//EN
CALSCALE:GREGORIAN
METHOD:PUBLISH
X-ORIGINAL-URL:https://vivakirche-neckertal.ch
X-WR-CALDESC:Veranstaltungen für Viva Kirche Neckertal
REFRESH-INTERVAL;VALUE=DURATION:PT1H
X-Robots-Tag:noindex
X-PUBLISHED-TTL:PT1H
BEGIN:VTIMEZONE
TZID:UTC
BEGIN:STANDARD
TZOFFSETFROM:+0000
TZOFFSETTO:+0000
TZNAME:UTC
DTSTART:20240101T000000
END:STANDARD
END:VTIMEZONE
BEGIN:VEVENT
DTSTART;TZID=UTC:20250703T200000
DTEND;TZID=UTC:20250703T210000
DTSTAMP:20260423T215410
CREATED:20250328T151146Z
LAST-MODIFIED:20250328T151146Z
UID:2583-1751572800-1751576400@vivakirche-neckertal.ch
SUMMARY:Gebetsabend
DESCRIPTION:Gebetszeit
URL:https://vivakirche-neckertal.ch/event/gebetsabend-4/
LOCATION:Viva Kirche Neckertal\, Dorfstrasse 13\, Brunnadern\, 9125
END:VEVENT
BEGIN:VEVENT
DTSTART;TZID=UTC:20250705T140000
DTEND;TZID=UTC:20250705T170000
DTSTAMP:20260423T215410
CREATED:20241119T105016Z
LAST-MODIFIED:20241119T105016Z
UID:2539-1751724000-1751734800@vivakirche-neckertal.ch
SUMMARY:Jungschar
DESCRIPTION:Jungscharnachmittag
URL:https://vivakirche-neckertal.ch/event/jungschar-78/
LOCATION:Viva Kirche Neckertal\, Dorfstrasse 13\, Brunnadern\, 9125
CATEGORIES:Jungschar
END:VEVENT
BEGIN:VEVENT
DTSTART;TZID=UTC:20250706T093000
DTEND;TZID=UTC:20250706T110000
DTSTAMP:20260423T215410
CREATED:20250329T095700Z
LAST-MODIFIED:20250329T095700Z
UID:2617-1751794200-1751799600@vivakirche-neckertal.ch
SUMMARY:Gottesdienst
DESCRIPTION:Gottesdienst mit Markus Kölliker\nAbendmahl und Kidstreff
URL:https://vivakirche-neckertal.ch/event/gottesdienst-151/
LOCATION:Viva Kirche Neckertal\, Dorfstrasse 13\, Brunnadern\, 9125
CATEGORIES:Gottesdienst
END:VEVENT
BEGIN:VEVENT
DTSTART;TZID=UTC:20250708T144500
DTEND;TZID=UTC:20250708T160000
DTSTAMP:20260423T215410
CREATED:20250328T150630Z
LAST-MODIFIED:20250328T150630Z
UID:2572-1751985900-1751990400@vivakirche-neckertal.ch
SUMMARY:Senioren Nachmittag
DESCRIPTION:Nachmittag für Senioren mit Gemeinschaft\, Impuls\, Singen
URL:https://vivakirche-neckertal.ch/event/senioren-nachmittag-8/
LOCATION:Viva Kirche Neckertal\, Dorfstrasse 13\, Brunnadern\, 9125
END:VEVENT
BEGIN:VEVENT
DTSTART;TZID=UTC:20250713T093000
DTEND;TZID=UTC:20250713T110000
DTSTAMP:20260423T215410
CREATED:20250329T095825Z
LAST-MODIFIED:20250329T095825Z
UID:2619-1752399000-1752404400@vivakirche-neckertal.ch
SUMMARY:Dialog Gottesdienst
DESCRIPTION:Ein Gottesdienst in dem man mitreden darf. Kurzer Impuls und anschliessender Dialog darüber.
URL:https://vivakirche-neckertal.ch/event/dialog-gottesdienst-12/
LOCATION:Viva Kirche Neckertal\, Dorfstrasse 13\, Brunnadern\, 9125
CATEGORIES:Gottesdienst
END:VEVENT
BEGIN:VEVENT
DTSTART;TZID=UTC:20250720T123000
DTEND;TZID=UTC:20250720T160000
DTSTAMP:20260423T215410
CREATED:20250329T100035Z
LAST-MODIFIED:20250329T100035Z
UID:2621-1753014600-1753027200@vivakirche-neckertal.ch
SUMMARY:Chriche am Tisch
DESCRIPTION:Gemeinsames öffentliches Mittagessen mit Dessert und Kaffe und einer bewegenden Geschichte. \nBei guter Witterung im Pärkli sonst in der Viva Kirche.
URL:https://vivakirche-neckertal.ch/event/chriche-am-tisch-2/
CATEGORIES:Gottesdienst
END:VEVENT
BEGIN:VEVENT
DTSTART;TZID=UTC:20250722T144500
DTEND;TZID=UTC:20250722T160000
DTSTAMP:20260423T215410
CREATED:20250328T150716Z
LAST-MODIFIED:20250328T150716Z
UID:2574-1753195500-1753200000@vivakirche-neckertal.ch
SUMMARY:Senioren Nachmittag
DESCRIPTION:Nachmittag für Senioren mit Gemeinschaft\, Impuls\, Singen
URL:https://vivakirche-neckertal.ch/event/senioren-nachmittag-9/
LOCATION:Viva Kirche Neckertal\, Dorfstrasse 13\, Brunnadern\, 9125
END:VEVENT
BEGIN:VEVENT
DTSTART;VALUE=DATE:20250727
DTEND;VALUE=DATE:20250728
DTSTAMP:20260423T215410
CREATED:20250329T100204Z
LAST-MODIFIED:20250329T100204Z
UID:2623-1753574400-1753660799@vivakirche-neckertal.ch
SUMMARY:Ferien - kein Gottesdienst
DESCRIPTION:An diesem Sonntag findet kein Gottesdienst statt. Wir machen Ferien!
URL:https://vivakirche-neckertal.ch/event/ferien-kein-gottesdienst/
END:VEVENT
END:VCALENDAR