BEGIN:VCALENDAR
VERSION:2.0
PRODID:-//Viva Kirche Neckertal - ECPv6.15.18//NONSGML v1.0//EN
CALSCALE:GREGORIAN
METHOD:PUBLISH
X-WR-CALNAME:Viva Kirche Neckertal
X-ORIGINAL-URL:https://vivakirche-neckertal.ch
X-WR-CALDESC:Veranstaltungen für Viva Kirche Neckertal
REFRESH-INTERVAL;VALUE=DURATION:PT1H
X-Robots-Tag:noindex
X-PUBLISHED-TTL:PT1H
BEGIN:VTIMEZONE
TZID:UTC
BEGIN:STANDARD
TZOFFSETFROM:+0000
TZOFFSETTO:+0000
TZNAME:UTC
DTSTART:20240101T000000
END:STANDARD
END:VTIMEZONE
BEGIN:VEVENT
DTSTART;TZID=UTC:20250803T093000
DTEND;TZID=UTC:20250803T110000
DTSTAMP:20260423T203948
CREATED:20250715T192728Z
LAST-MODIFIED:20250715T192728Z
UID:2631-1754213400-1754218800@vivakirche-neckertal.ch
SUMMARY:Gottesdienst
DESCRIPTION:Gottesdienst mit Till Fullin\nAbendmahl und Kidstreff
URL:https://vivakirche-neckertal.ch/event/gottesdienst-152/
LOCATION:Viva Kirche Neckertal\, Dorfstrasse 13\, Brunnadern\, 9125
CATEGORIES:Gottesdienst
END:VEVENT
BEGIN:VEVENT
DTSTART;TZID=UTC:20250807T200000
DTEND;TZID=UTC:20250807T210000
DTSTAMP:20260423T203948
CREATED:20250715T192815Z
LAST-MODIFIED:20250715T192815Z
UID:2633-1754596800-1754600400@vivakirche-neckertal.ch
SUMMARY:Gebet
DESCRIPTION:Gebetsabend
URL:https://vivakirche-neckertal.ch/event/gebet-38/
LOCATION:Viva Kirche Neckertal\, Dorfstrasse 13\, Brunnadern\, 9125
END:VEVENT
BEGIN:VEVENT
DTSTART;TZID=UTC:20250809T140000
DTEND;TZID=UTC:20250810T170000
DTSTAMP:20260423T203948
CREATED:20250715T193024Z
LAST-MODIFIED:20250715T193024Z
UID:2635-1754748000-1754845200@vivakirche-neckertal.ch
SUMMARY:Gemeinde Wochenende
DESCRIPTION:Weekend auf der Alp Langdürren \nGemeindeweekend auf der Alp 2025
URL:https://vivakirche-neckertal.ch/event/gemeinde-wochenende/
CATEGORIES:Gottesdienst
END:VEVENT
BEGIN:VEVENT
DTSTART;TZID=UTC:20250817T123000
DTEND;TZID=UTC:20250817T160000
DTSTAMP:20260423T203948
CREATED:20250715T193145Z
LAST-MODIFIED:20250715T193145Z
UID:2638-1755433800-1755446400@vivakirche-neckertal.ch
SUMMARY:Chirche am Tisch
DESCRIPTION:öffentliches Mittagessen im Grüttli\, Necker
URL:https://vivakirche-neckertal.ch/event/chirche-am-tisch-8/
CATEGORIES:Gottesdienst
END:VEVENT
BEGIN:VEVENT
DTSTART;TZID=UTC:20250821T200000
DTEND;TZID=UTC:20250821T213000
DTSTAMP:20260423T203948
CREATED:20250715T193309Z
LAST-MODIFIED:20250715T193309Z
UID:2640-1755806400-1755811800@vivakirche-neckertal.ch
SUMMARY:Abend fürs Neckertal
DESCRIPTION:20250821 Flyer AfN
URL:https://vivakirche-neckertal.ch/event/abend-fuers-neckertal-4/
LOCATION:Chrüzweg\, Furtstrasse 3\, Brunnadern\, 9125
END:VEVENT
BEGIN:VEVENT
DTSTART;TZID=UTC:20250823T140000
DTEND;TZID=UTC:20250823T170000
DTSTAMP:20260423T203948
CREATED:20250715T193358Z
LAST-MODIFIED:20250715T193358Z
UID:2643-1755957600-1755968400@vivakirche-neckertal.ch
SUMMARY:Jungschar
DESCRIPTION:Jungscharnachmittag
URL:https://vivakirche-neckertal.ch/event/jungschar-79/
LOCATION:Viva Kirche Neckertal\, Dorfstrasse 13\, Brunnadern\, 9125
CATEGORIES:Jungschar
END:VEVENT
BEGIN:VEVENT
DTSTART;TZID=UTC:20250824T093000
DTEND;TZID=UTC:20250824T110000
DTSTAMP:20260423T203948
CREATED:20250715T193454Z
LAST-MODIFIED:20250715T193454Z
UID:2645-1756027800-1756033200@vivakirche-neckertal.ch
SUMMARY:Gottesdienst
DESCRIPTION:Mit Andreas Rohner \nKidstreff
URL:https://vivakirche-neckertal.ch/event/gottesdienst-153/
LOCATION:Viva Kirche Neckertal\, Dorfstrasse 13\, Brunnadern\, 9125
CATEGORIES:Gottesdienst
END:VEVENT
BEGIN:VEVENT
DTSTART;TZID=UTC:20250831T093000
DTEND;TZID=UTC:20250831T110000
DTSTAMP:20260423T203948
CREATED:20250715T193555Z
LAST-MODIFIED:20250715T193555Z
UID:2647-1756632600-1756638000@vivakirche-neckertal.ch
SUMMARY:Erlebnisbericht- Gottesdienst
DESCRIPTION:Gottesdienst mit Erlebnisberichten
URL:https://vivakirche-neckertal.ch/event/erlebnisbericht-gottesdienst-5/
LOCATION:Viva Kirche Neckertal\, Dorfstrasse 13\, Brunnadern\, 9125
CATEGORIES:Gottesdienst
END:VEVENT
END:VCALENDAR