BEGIN:VCALENDAR
VERSION:2.0
PRODID:-//Viva Kirche Neckertal - ECPv6.15.18//NONSGML v1.0//EN
CALSCALE:GREGORIAN
METHOD:PUBLISH
X-WR-CALNAME:Viva Kirche Neckertal
X-ORIGINAL-URL:https://vivakirche-neckertal.ch
X-WR-CALDESC:Veranstaltungen für Viva Kirche Neckertal
REFRESH-INTERVAL;VALUE=DURATION:PT1H
X-Robots-Tag:noindex
X-PUBLISHED-TTL:PT1H
BEGIN:VTIMEZONE
TZID:UTC
BEGIN:STANDARD
TZOFFSETFROM:+0000
TZOFFSETTO:+0000
TZNAME:UTC
DTSTART:20240101T000000
END:STANDARD
END:VTIMEZONE
BEGIN:VEVENT
DTSTART;TZID=UTC:20250906T140000
DTEND;TZID=UTC:20250906T170000
DTSTAMP:20260423T191333
CREATED:20250715T193641Z
LAST-MODIFIED:20250715T193641Z
UID:2649-1757167200-1757178000@vivakirche-neckertal.ch
SUMMARY:Jungschar
DESCRIPTION:Jungscharnachmittag
URL:https://vivakirche-neckertal.ch/event/jungschar-80/
LOCATION:Viva Kirche Neckertal\, Dorfstrasse 13\, Brunnadern\, 9125
CATEGORIES:Jungschar
END:VEVENT
BEGIN:VEVENT
DTSTART;TZID=UTC:20250907T093000
DTEND;TZID=UTC:20250907T110000
DTSTAMP:20260423T191333
CREATED:20250715T193742Z
LAST-MODIFIED:20250715T193742Z
UID:2651-1757237400-1757242800@vivakirche-neckertal.ch
SUMMARY:Gottesdienst
DESCRIPTION:Mit Wolfgang Krieg\nAbendmahl und Kidstreff
URL:https://vivakirche-neckertal.ch/event/gottesdienst-154/
LOCATION:Viva Kirche Neckertal\, Dorfstrasse 13\, Brunnadern\, 9125
CATEGORIES:Gottesdienst
END:VEVENT
BEGIN:VEVENT
DTSTART;TZID=UTC:20250914T123000
DTEND;TZID=UTC:20250914T160000
DTSTAMP:20260423T191333
CREATED:20250715T193859Z
LAST-MODIFIED:20250715T193859Z
UID:2653-1757853000-1757865600@vivakirche-neckertal.ch
SUMMARY:Chirche am Tisch
DESCRIPTION:öffentliches Essen\nbei guter Witterung im Pärkli
URL:https://vivakirche-neckertal.ch/event/chirche-am-tisch-9/
LOCATION:Viva Kirche Neckertal\, Dorfstrasse 13\, Brunnadern\, 9125
CATEGORIES:Gottesdienst
END:VEVENT
BEGIN:VEVENT
DTSTART;TZID=UTC:20250920T140000
DTEND;TZID=UTC:20250920T170000
DTSTAMP:20260423T191333
CREATED:20250715T194112Z
LAST-MODIFIED:20250715T194112Z
UID:2655-1758376800-1758387600@vivakirche-neckertal.ch
SUMMARY:Jungschar
DESCRIPTION:Jungscharnachmittag
URL:https://vivakirche-neckertal.ch/event/jungschar-81/
LOCATION:Viva Kirche Neckertal\, Dorfstrasse 13\, Brunnadern\, 9125
CATEGORIES:Jungschar
END:VEVENT
BEGIN:VEVENT
DTSTART;TZID=UTC:20250921T100000
DTEND;TZID=UTC:20250921T113000
DTSTAMP:20260423T191333
CREATED:20250715T194235Z
LAST-MODIFIED:20250715T194235Z
UID:2657-1758448800-1758454200@vivakirche-neckertal.ch
SUMMARY:Allianz-Gottesdienst
DESCRIPTION:Gottesdienst der evangelischen Allianz Toggenburg\nIn der FCG Toggenburg in Ebnat Kappel
URL:https://vivakirche-neckertal.ch/event/allianz-gottesdienst-8/
CATEGORIES:Gottesdienst
END:VEVENT
BEGIN:VEVENT
DTSTART;TZID=UTC:20250928T093000
DTEND;TZID=UTC:20250928T110000
DTSTAMP:20260423T191333
CREATED:20250715T194337Z
LAST-MODIFIED:20250715T194337Z
UID:2659-1759051800-1759057200@vivakirche-neckertal.ch
SUMMARY:Gottesdienst
DESCRIPTION:Mit Simon Bäbler\nKidstreff
URL:https://vivakirche-neckertal.ch/event/gottesdienst-155/
LOCATION:Viva Kirche Neckertal\, Dorfstrasse 13\, Brunnadern\, 9125
CATEGORIES:Gottesdienst
END:VEVENT
END:VCALENDAR