BEGIN:VCALENDAR
VERSION:2.0
PRODID:-//Viva Kirche Neckertal - ECPv6.15.18//NONSGML v1.0//EN
CALSCALE:GREGORIAN
METHOD:PUBLISH
X-WR-CALNAME:Viva Kirche Neckertal
X-ORIGINAL-URL:https://vivakirche-neckertal.ch
X-WR-CALDESC:Veranstaltungen für Viva Kirche Neckertal
REFRESH-INTERVAL;VALUE=DURATION:PT1H
X-Robots-Tag:noindex
X-PUBLISHED-TTL:PT1H
BEGIN:VTIMEZONE
TZID:UTC
BEGIN:STANDARD
TZOFFSETFROM:+0000
TZOFFSETTO:+0000
TZNAME:UTC
DTSTART:20240101T000000
END:STANDARD
END:VTIMEZONE
BEGIN:VEVENT
DTSTART;TZID=UTC:20251102T093000
DTEND;TZID=UTC:20251102T110000
DTSTAMP:20260423T162401
CREATED:20250716T192328Z
LAST-MODIFIED:20250716T192328Z
UID:2678-1762075800-1762081200@vivakirche-neckertal.ch
SUMMARY:Gottesdienst
DESCRIPTION:Mit Andi und Vreni Brunner\nAbendmahl
URL:https://vivakirche-neckertal.ch/event/gottesdienst-158/
LOCATION:Viva Kirche Neckertal\, Dorfstrasse 13\, Brunnadern\, 9125
CATEGORIES:Gottesdienst
END:VEVENT
BEGIN:VEVENT
DTSTART;TZID=UTC:20251106T200000
DTEND;TZID=UTC:20251106T213000
DTSTAMP:20260423T162401
CREATED:20250716T192420Z
LAST-MODIFIED:20250716T192420Z
UID:2680-1762459200-1762464600@vivakirche-neckertal.ch
SUMMARY:Gemeindeversammlung
DESCRIPTION:Gemeindeversammlung der Viva Kirche Neckertal
URL:https://vivakirche-neckertal.ch/event/gemeindeversammlung-8/
LOCATION:Viva Kirche Neckertal\, Dorfstrasse 13\, Brunnadern\, 9125
END:VEVENT
BEGIN:VEVENT
DTSTART;TZID=UTC:20251109T093000
DTEND;TZID=UTC:20251109T110000
DTSTAMP:20260423T162401
CREATED:20250716T192527Z
LAST-MODIFIED:20250716T192527Z
UID:2682-1762680600-1762686000@vivakirche-neckertal.ch
SUMMARY:Gottesdienst
DESCRIPTION:Mit Hanspeter Obrist\nKidstreff
URL:https://vivakirche-neckertal.ch/event/gottesdienst-159/
LOCATION:Viva Kirche Neckertal\, Dorfstrasse 13\, Brunnadern\, 9125
CATEGORIES:Gottesdienst
END:VEVENT
BEGIN:VEVENT
DTSTART;TZID=UTC:20251113T200000
DTEND;TZID=UTC:20251113T213000
DTSTAMP:20260423T162401
CREATED:20250716T192711Z
LAST-MODIFIED:20250716T192711Z
UID:2684-1763064000-1763069400@vivakirche-neckertal.ch
SUMMARY:Abend fürs Neckertal
DESCRIPTION:Abend fürs Neckertal\nEin Abend für Christen aus dem Tal
URL:https://vivakirche-neckertal.ch/event/abend-fuers-neckertal-5/
LOCATION:Chrüzweg\, Furtstrasse 3\, Brunnadern\, 9125
END:VEVENT
BEGIN:VEVENT
DTSTART;TZID=UTC:20251115T140000
DTEND;TZID=UTC:20251115T170000
DTSTAMP:20260423T162401
CREATED:20250716T192748Z
LAST-MODIFIED:20250716T192748Z
UID:2686-1763215200-1763226000@vivakirche-neckertal.ch
SUMMARY:Jungschar
DESCRIPTION:Jungscharnachmittag
URL:https://vivakirche-neckertal.ch/event/jungschar-83/
LOCATION:Viva Kirche Neckertal\, Dorfstrasse 13\, Brunnadern\, 9125
CATEGORIES:Jungschar
END:VEVENT
BEGIN:VEVENT
DTSTART;TZID=UTC:20251116T123000
DTEND;TZID=UTC:20251116T160000
DTSTAMP:20260423T162401
CREATED:20250716T192912Z
LAST-MODIFIED:20250716T192912Z
UID:2688-1763296200-1763308800@vivakirche-neckertal.ch
SUMMARY:Chirche am Tisch
DESCRIPTION:Chirche am Tisch\nöffentliches Mittagessen mit einer biblischen Geschichte und guter Gemeinschaft
URL:https://vivakirche-neckertal.ch/event/chirche-am-tisch-11/
LOCATION:Viva Kirche Neckertal\, Dorfstrasse 13\, Brunnadern\, 9125
CATEGORIES:Gottesdienst
END:VEVENT
BEGIN:VEVENT
DTSTART;TZID=UTC:20251123T093000
DTEND;TZID=UTC:20251123T110000
DTSTAMP:20260423T162401
CREATED:20250716T193021Z
LAST-MODIFIED:20250716T193021Z
UID:2690-1763890200-1763895600@vivakirche-neckertal.ch
SUMMARY:Gottesdienst
DESCRIPTION:Mit Simon Bäbler\nKidstreff
URL:https://vivakirche-neckertal.ch/event/gottesdienst-160/
LOCATION:Viva Kirche Neckertal\, Dorfstrasse 13\, Brunnadern\, 9125
CATEGORIES:Gottesdienst
END:VEVENT
BEGIN:VEVENT
DTSTART;TZID=UTC:20251129T140000
DTEND;TZID=UTC:20251129T170000
DTSTAMP:20260423T162401
CREATED:20250716T193113Z
LAST-MODIFIED:20250716T193113Z
UID:2692-1764424800-1764435600@vivakirche-neckertal.ch
SUMMARY:Jungschar
DESCRIPTION:Jungscharnachmittag
URL:https://vivakirche-neckertal.ch/event/jungschar-84/
LOCATION:Viva Kirche Neckertal\, Dorfstrasse 13\, Brunnadern\, 9125
CATEGORIES:Jungschar
END:VEVENT
BEGIN:VEVENT
DTSTART;TZID=UTC:20251130T093000
DTEND;TZID=UTC:20251130T103000
DTSTAMP:20260423T162401
CREATED:20250716T193212Z
LAST-MODIFIED:20250716T193212Z
UID:2694-1764495000-1764498600@vivakirche-neckertal.ch
SUMMARY:Gebetszeit am Weihnachtsmarkt
DESCRIPTION:Gebetszeit
URL:https://vivakirche-neckertal.ch/event/gebetszeit-am-weihnachtsmarkt/
LOCATION:Viva Kirche Neckertal\, Dorfstrasse 13\, Brunnadern\, 9125
CATEGORIES:Jungschar
END:VEVENT
END:VCALENDAR