BEGIN:VCALENDAR
VERSION:2.0
PRODID:-//Viva Kirche Neckertal - ECPv6.15.18//NONSGML v1.0//EN
CALSCALE:GREGORIAN
METHOD:PUBLISH
X-ORIGINAL-URL:https://vivakirche-neckertal.ch
X-WR-CALDESC:Veranstaltungen für Viva Kirche Neckertal
REFRESH-INTERVAL;VALUE=DURATION:PT1H
X-Robots-Tag:noindex
X-PUBLISHED-TTL:PT1H
BEGIN:VTIMEZONE
TZID:UTC
BEGIN:STANDARD
TZOFFSETFROM:+0000
TZOFFSETTO:+0000
TZNAME:UTC
DTSTART:20240101T000000
END:STANDARD
END:VTIMEZONE
BEGIN:VEVENT
DTSTART;TZID=UTC:20251204T200000
DTEND;TZID=UTC:20251204T210000
DTSTAMP:20260423T150218
CREATED:20251128T200827Z
LAST-MODIFIED:20251128T200827Z
UID:2713-1764878400-1764882000@vivakirche-neckertal.ch
SUMMARY:Gebet
DESCRIPTION:Gebetsabend
URL:https://vivakirche-neckertal.ch/event/gebet-40/
LOCATION:Viva Kirche Neckertal\, Dorfstrasse 13\, Brunnadern\, 9125
END:VEVENT
BEGIN:VEVENT
DTSTART;TZID=UTC:20251207T093000
DTEND;TZID=UTC:20251207T170000
DTSTAMP:20260423T150218
CREATED:20251128T200603Z
LAST-MODIFIED:20251128T200603Z
UID:2709-1765099800-1765126800@vivakirche-neckertal.ch
SUMMARY:Gottesdienst
DESCRIPTION:Gottesdienst mit Christian Haslebacher\nmit Abendmahl
URL:https://vivakirche-neckertal.ch/event/gottesdienst-161/
LOCATION:Viva Kirche Neckertal\, Dorfstrasse 13\, Brunnadern\, 9125
CATEGORIES:Gottesdienst
END:VEVENT
BEGIN:VEVENT
DTSTART;TZID=UTC:20251209T144500
DTEND;TZID=UTC:20251209T160000
DTSTAMP:20260423T150218
CREATED:20251128T201524Z
LAST-MODIFIED:20251128T201524Z
UID:2719-1765291500-1765296000@vivakirche-neckertal.ch
SUMMARY:Seniorennachmittag
DESCRIPTION:Seniorennachmittag
URL:https://vivakirche-neckertal.ch/event/seniorennachmittag/
LOCATION:Viva Kirche Neckertal\, Dorfstrasse 13\, Brunnadern\, 9125
END:VEVENT
BEGIN:VEVENT
DTSTART;TZID=UTC:20251213T140000
DTEND;TZID=UTC:20251213T170000
DTSTAMP:20260423T150218
CREATED:20251128T200740Z
LAST-MODIFIED:20251128T200740Z
UID:2711-1765634400-1765645200@vivakirche-neckertal.ch
SUMMARY:Jungschar
DESCRIPTION:Jungscharnachmittag
URL:https://vivakirche-neckertal.ch/event/jungschar-85/
LOCATION:Viva Kirche Neckertal\, Dorfstrasse 13\, Brunnadern\, 9125
CATEGORIES:Jungschar
END:VEVENT
BEGIN:VEVENT
DTSTART;TZID=UTC:20251214T093000
DTEND;TZID=UTC:20251214T110000
DTSTAMP:20260423T150218
CREATED:20251128T200950Z
LAST-MODIFIED:20251128T200950Z
UID:2715-1765704600-1765710000@vivakirche-neckertal.ch
SUMMARY:Gottesdienst
DESCRIPTION:Gottesdienst mit Wolfgang Krieg
URL:https://vivakirche-neckertal.ch/event/gottesdienst-162/
LOCATION:Viva Kirche Neckertal\, Dorfstrasse 13\, Brunnadern\, 9125
CATEGORIES:Gottesdienst
END:VEVENT
BEGIN:VEVENT
DTSTART;TZID=UTC:20251221T093000
DTEND;TZID=UTC:20251221T110000
DTSTAMP:20260423T150218
CREATED:20251128T201212Z
LAST-MODIFIED:20251214T072227Z
UID:2717-1766309400-1766314800@vivakirche-neckertal.ch
SUMMARY:Gottesdienst
DESCRIPTION:Gottesdienst mit Mirco Thiel von Compassion
URL:https://vivakirche-neckertal.ch/event/gottesdienst-163/
LOCATION:Viva Kirche Neckertal\, Dorfstrasse 13\, Brunnadern\, 9125
CATEGORIES:Gottesdienst
END:VEVENT
BEGIN:VEVENT
DTSTART;TZID=UTC:20251223T144500
DTEND;TZID=UTC:20251223T160000
DTSTAMP:20260423T150218
CREATED:20251128T201620Z
LAST-MODIFIED:20251128T201620Z
UID:2721-1766501100-1766505600@vivakirche-neckertal.ch
SUMMARY:Seniorennachmittag
DESCRIPTION:Seniorennachmittag
URL:https://vivakirche-neckertal.ch/event/seniorennachmittag-2/
LOCATION:Viva Kirche Neckertal\, Dorfstrasse 13\, Brunnadern\, 9125
END:VEVENT
BEGIN:VEVENT
DTSTART;TZID=UTC:20251225T093000
DTEND;TZID=UTC:20251225T110000
DTSTAMP:20260423T150218
CREATED:20251128T201842Z
LAST-MODIFIED:20251128T201842Z
UID:2723-1766655000-1766660400@vivakirche-neckertal.ch
SUMMARY:Gottesdienst
DESCRIPTION:Weihnachts Gottesdienst mit Simon Bäbler
URL:https://vivakirche-neckertal.ch/event/gottesdienst-164/
LOCATION:Viva Kirche Neckertal\, Dorfstrasse 13\, Brunnadern\, 9125
CATEGORIES:Gottesdienst
END:VEVENT
BEGIN:VEVENT
DTSTART;TZID=UTC:20251231T180000
DTEND;TZID=UTC:20251231T233000
DTSTAMP:20260423T150218
CREATED:20251128T202027Z
LAST-MODIFIED:20251128T202027Z
UID:2725-1767204000-1767223800@vivakirche-neckertal.ch
SUMMARY:Chirche am Tisch
DESCRIPTION:Chirche am Tisch Silvester \nÖffentliches Nachtessen mit guter Gemeinschaft bis ins neue Jahr.
URL:https://vivakirche-neckertal.ch/event/chirche-am-tisch-12/
LOCATION:Viva Kirche Neckertal\, Dorfstrasse 13\, Brunnadern\, 9125
CATEGORIES:Gottesdienst
END:VEVENT
END:VCALENDAR