BEGIN:VCALENDAR
VERSION:2.0
PRODID:-//Viva Kirche Neckertal - ECPv6.15.18//NONSGML v1.0//EN
CALSCALE:GREGORIAN
METHOD:PUBLISH
X-ORIGINAL-URL:https://vivakirche-neckertal.ch
X-WR-CALDESC:Veranstaltungen für Viva Kirche Neckertal
REFRESH-INTERVAL;VALUE=DURATION:PT1H
X-Robots-Tag:noindex
X-PUBLISHED-TTL:PT1H
BEGIN:VTIMEZONE
TZID:UTC
BEGIN:STANDARD
TZOFFSETFROM:+0000
TZOFFSETTO:+0000
TZNAME:UTC
DTSTART:20250101T000000
END:STANDARD
END:VTIMEZONE
BEGIN:VEVENT
DTSTART;TZID=UTC:20260201T093000
DTEND;TZID=UTC:20260201T110000
DTSTAMP:20260421T144305
CREATED:20251128T203203Z
LAST-MODIFIED:20251128T203203Z
UID:2745-1769938200-1769943600@vivakirche-neckertal.ch
SUMMARY:Gottesdienst
DESCRIPTION:Gottesdienst mit Andi und Vreni Brunner\nAbendmahl
URL:https://vivakirche-neckertal.ch/event/gottesdienst-168/
LOCATION:Viva Kirche Neckertal\, Dorfstrasse 13\, Brunnadern\, 9125
CATEGORIES:Gottesdienst
END:VEVENT
BEGIN:VEVENT
DTSTART;TZID=UTC:20260203T144500
DTEND;TZID=UTC:20260203T160000
DTSTAMP:20260421T144305
CREATED:20251128T203300Z
LAST-MODIFIED:20251128T203300Z
UID:2747-1770129900-1770134400@vivakirche-neckertal.ch
SUMMARY:Seniorennachmittag
DESCRIPTION:Seniorennachmittag
URL:https://vivakirche-neckertal.ch/event/seniorennachmittag-5/
LOCATION:Viva Kirche Neckertal\, Dorfstrasse 13\, Brunnadern\, 9125
END:VEVENT
BEGIN:VEVENT
DTSTART;TZID=UTC:20260205T144500
DTEND;TZID=UTC:20260205T160000
DTSTAMP:20260421T144305
CREATED:20251128T203359Z
LAST-MODIFIED:20251128T203359Z
UID:2749-1770302700-1770307200@vivakirche-neckertal.ch
SUMMARY:Gebet
DESCRIPTION:Gebetsabend
URL:https://vivakirche-neckertal.ch/event/gebet-42/
LOCATION:Viva Kirche Neckertal\, Dorfstrasse 13\, Brunnadern\, 9125
END:VEVENT
BEGIN:VEVENT
DTSTART;TZID=UTC:20260207T140000
DTEND;TZID=UTC:20260207T170000
DTSTAMP:20260421T144305
CREATED:20251128T203500Z
LAST-MODIFIED:20251128T203500Z
UID:2751-1770472800-1770483600@vivakirche-neckertal.ch
SUMMARY:Jungschar
DESCRIPTION:Jungscharnachmittag
URL:https://vivakirche-neckertal.ch/event/jungschar-88/
LOCATION:Viva Kirche Neckertal\, Dorfstrasse 13\, Brunnadern\, 9125
CATEGORIES:Jungschar
END:VEVENT
BEGIN:VEVENT
DTSTART;TZID=UTC:20260208T093000
DTEND;TZID=UTC:20260208T110000
DTSTAMP:20260421T144305
CREATED:20251128T203624Z
LAST-MODIFIED:20260226T110136Z
UID:2753-1770543000-1770548400@vivakirche-neckertal.ch
SUMMARY:Gottesdienst
DESCRIPTION:Gottesdienst mit Simon Bäbler
URL:https://vivakirche-neckertal.ch/event/gottesdienst-169/
LOCATION:Viva Kirche Neckertal\, Dorfstrasse 13\, Brunnadern\, 9125
CATEGORIES:Gottesdienst
END:VEVENT
BEGIN:VEVENT
DTSTART;TZID=UTC:20260215T123000
DTEND;TZID=UTC:20260215T160000
DTSTAMP:20260421T144305
CREATED:20251128T204303Z
LAST-MODIFIED:20251128T204303Z
UID:2755-1771158600-1771171200@vivakirche-neckertal.ch
SUMMARY:Chirche am Tisch
DESCRIPTION:Gebetszeit um 11 Uhr\nChriche am Tisch\, öffentliches Mittagessen um 12:30 Uhr
URL:https://vivakirche-neckertal.ch/event/chirche-am-tisch-14/
LOCATION:Viva Kirche Neckertal\, Dorfstrasse 13\, Brunnadern\, 9125
CATEGORIES:Gottesdienst
END:VEVENT
BEGIN:VEVENT
DTSTART;TZID=UTC:20260217T144500
DTEND;TZID=UTC:20260217T160000
DTSTAMP:20260421T144305
CREATED:20251128T204357Z
LAST-MODIFIED:20251128T204357Z
UID:2757-1771339500-1771344000@vivakirche-neckertal.ch
SUMMARY:Seniorennachmittag
DESCRIPTION:Seniorennachmittag
URL:https://vivakirche-neckertal.ch/event/seniorennachmittag-6/
LOCATION:Viva Kirche Neckertal\, Dorfstrasse 13\, Brunnadern\, 9125
END:VEVENT
BEGIN:VEVENT
DTSTART;TZID=UTC:20260221T140000
DTEND;TZID=UTC:20260221T170000
DTSTAMP:20260421T144305
CREATED:20251128T204543Z
LAST-MODIFIED:20251128T204543Z
UID:2759-1771682400-1771693200@vivakirche-neckertal.ch
SUMMARY:Jungschar
DESCRIPTION:Jungscharnachmittag
URL:https://vivakirche-neckertal.ch/event/jungschar-89/
LOCATION:Viva Kirche Neckertal\, Dorfstrasse 13\, Brunnadern\, 9125
CATEGORIES:Jungschar
END:VEVENT
BEGIN:VEVENT
DTSTART;TZID=UTC:20260222T093000
DTEND;TZID=UTC:20260222T110000
DTSTAMP:20260421T144305
CREATED:20251128T204849Z
LAST-MODIFIED:20251128T204849Z
UID:2761-1771752600-1771758000@vivakirche-neckertal.ch
SUMMARY:Gottesdienst
DESCRIPTION:Gottesdienst mit Wolfgang Krieg
URL:https://vivakirche-neckertal.ch/event/gottesdienst-170/
LOCATION:Viva Kirche Neckertal\, Dorfstrasse 13\, Brunnadern\, 9125
CATEGORIES:Gottesdienst
END:VEVENT
END:VCALENDAR