BEGIN:VCALENDAR
VERSION:2.0
PRODID:-//Viva Kirche Neckertal - ECPv6.15.18//NONSGML v1.0//EN
CALSCALE:GREGORIAN
METHOD:PUBLISH
X-ORIGINAL-URL:https://vivakirche-neckertal.ch
X-WR-CALDESC:Veranstaltungen für Viva Kirche Neckertal
REFRESH-INTERVAL;VALUE=DURATION:PT1H
X-Robots-Tag:noindex
X-PUBLISHED-TTL:PT1H
BEGIN:VTIMEZONE
TZID:UTC
BEGIN:STANDARD
TZOFFSETFROM:+0000
TZOFFSETTO:+0000
TZNAME:UTC
DTSTART:20250101T000000
END:STANDARD
END:VTIMEZONE
BEGIN:VEVENT
DTSTART;TZID=UTC:20260425T140000
DTEND;TZID=UTC:20260425T170000
DTSTAMP:20260421T115821
CREATED:20260402T052845Z
LAST-MODIFIED:20260402T052845Z
UID:2856-1777125600-1777136400@vivakirche-neckertal.ch
SUMMARY:Jungschar
DESCRIPTION:Jungscharnachmittag
URL:https://vivakirche-neckertal.ch/event/jungschar-92/
LOCATION:Viva Kirche Neckertal\, Dorfstrasse 13\, Brunnadern\, 9125
CATEGORIES:Jungschar
END:VEVENT
BEGIN:VEVENT
DTSTART;TZID=UTC:20260426T093000
DTEND;TZID=UTC:20260426T110000
DTSTAMP:20260421T115821
CREATED:20260402T052954Z
LAST-MODIFIED:20260402T052954Z
UID:2858-1777195800-1777201200@vivakirche-neckertal.ch
SUMMARY:Gottesdienst
DESCRIPTION:Mit Wolfgang Krieg
URL:https://vivakirche-neckertal.ch/event/gottesdienst-176/
LOCATION:Viva Kirche Neckertal\, Dorfstrasse 13\, Brunnadern\, 9125
CATEGORIES:Gottesdienst
END:VEVENT
BEGIN:VEVENT
DTSTART;TZID=UTC:20260428T144500
DTEND;TZID=UTC:20260428T160000
DTSTAMP:20260421T115821
CREATED:20260402T053109Z
LAST-MODIFIED:20260402T053109Z
UID:2860-1777387500-1777392000@vivakirche-neckertal.ch
SUMMARY:Seniorennachmittag
DESCRIPTION:Seniorennachmittag
URL:https://vivakirche-neckertal.ch/event/seniorennachmittag-10/
LOCATION:Viva Kirche Neckertal\, Dorfstrasse 13\, Brunnadern\, 9125
END:VEVENT
BEGIN:VEVENT
DTSTART;TZID=UTC:20260430T200000
DTEND;TZID=UTC:20260430T211500
DTSTAMP:20260421T115821
CREATED:20260402T053236Z
LAST-MODIFIED:20260402T053236Z
UID:2862-1777579200-1777583700@vivakirche-neckertal.ch
SUMMARY:Dorfgebet
DESCRIPTION:Gebetsabend für und in Brunnadern\nNachfolgeanlass von Abend fürs Neckertal
URL:https://vivakirche-neckertal.ch/event/dorfgebet/
LOCATION:Viva Kirche Neckertal\, Dorfstrasse 13\, Brunnadern\, 9125
END:VEVENT
END:VCALENDAR